{"text_format":"1","workbook":"xlsx","n_sheets":2,"sheets":["Mannschaften","Spielplan"],"not_rendered":{"charts":0,"images":0,"macros":1,"external_links":0,"defined_names":0,"comments":0,"pivot_tables":0},"unopened":[],"bounds":{"document_bytes":16777216,"sheet_cells":100000,"rows_first":2000,"rows_last":500,"rows_between":2000,"halvings":0,"cell_chars":16384,"cell_head_chars":4096},"cells_cut":0,"cells_raw":0,"read":"whole","date_system":"1900"}

{"sheet":"Mannschaften","index":0,"n_rows":100,"n_cols":16,"rows_kept":100,"cut":false,"hidden":false,"merged":[[80,7,80,9],[87,7,87,9],[94,7,94,9],[94,11,94,13],[87,11,87,13],[80,11,80,13],[0,0,0,1],[73,11,73,13],[66,11,66,13],[59,11,59,13],[52,11,52,13],[12,3,12,4],[12,5,12,6],[52,7,52,9],[59,7,59,9],[66,7,66,9],[73,7,73,9],[35,3,35,4],[35,5,35,6]]}
["Oberliga Snooker - Spielplan",null,null,null,null,null,{"$f":"LARGE(A3:A10,1)","v":6},null,null,null,null,null,null,null,{"$f":"G1","v":6},"Meldungen"]
[{"$f":"LARGE(A3:A10,1)","v":6},null,null,null,null,null,null,null,null,null,null,null,null,null,"bei 5 oder 7 Meldungen bitte noch \"spielfrei\" eintragen"]
[1,"Leipzig 1",{"$f":"IF(B3=\"\",2222222222222220000,RAND()*123)","v":4.2541296786287557},null,null,null,null,null,1,2,3,4,5,6]
[2,"Limbach-Oberfrohna 1",{"$f":"IF(B4=\"\",2222222222222220000,RAND()*123)","v":43.818955766065542},null,null,null,null,1,"x"]
[3,"Limbach-Oberfrohna 3",{"$f":"IF(B5=\"\",2222222222222220000,RAND()*123)","v":92.091242311109013},null,null,null,null,2,null,"x"]
[4,"SaxMax Dresden 2",{"$f":"IF(B6=\"\",2222222222222220000,RAND()*123)","v":57.270492251441517},null,null,null,null,3,null,null,"x"]
[{"$f":"IF(B7=\"\",\"\",5)","v":5},"Limbach-Oberfrohna 2",{"$f":"IF(B7=\"\",2222222222222220000,RAND()*123)","v":34.085797592773737},null,null,null,null,4,null,null,null,"x"]
[{"$f":"IF(B8=\"\",\"\",6)","v":6},"Snoobi Dresden 1",{"$f":"IF(B8=\"\",2222222222222220000,RAND()*123)","v":122.24663889697509},null,null,null,null,5,null,null,null,null,"x"]
[{"$f":"IF(B9=\"\",\"\",7)","v":""},null,{"$f":"IF(B9=\"\",2222222222222220000,RAND()*123)","v":2.22222222222222E+18},null,null,null,null,6,null,null,null,null,null,"x"]
[{"$f":"IF(B10=\"\",\"\",8)","v":""},null,{"$f":"IF(B10=\"\",2222222222222220000,RAND()*123)","v":2.22222222222222E+18}]
[]
[null,null,null,6]
[null,null,null,"Hinrunde",null,"Rückrunde"]
[null,null,null,1,6,{"$f":"E14","v":6},{"$f":"D14","v":1}]
[null,null,null,2,5,{"$f":"E15","v":5},{"$f":"D15","v":2}]
[null,null,null,3,4,4,3]
[]
[null,null,null,6,2,2,{"$f":"D18","v":6}]
[null,null,null,3,1,1,3]
[null,null,null,4,5,5,4]
[null,null,null,null,null,null,0]
[null,null,null,3,6,6,3]
[null,null,null,4,2,2,4]
[null,null,null,5,1,1,5]
[]
[null,null,null,6,4,4,6]
[null,null,null,5,3,3,5]
[null,null,null,1,2,2,1]
[]
[null,null,null,5,6,6,5]
[null,null,null,1,4,4,1]
[null,null,null,2,3,3,2]
[]
[]
[null,null,null,8]
[null,null,null,"Hinrunde",null,"Rückrunde"]
[null,null,null,1,8,{"$f":"E37","v":8},{"$f":"D37","v":1}]
[null,null,null,2,7,{"$f":"E38","v":7},{"$f":"D38","v":2}]
[null,null,null,6,3,3,6]
[null,null,null,4,5,5,4]
[null,null,null,8,2,{"$f":"E41","v":2},{"$f":"D41","v":8}]
[null,null,null,3,1,1,3]
[null,null,null,7,4,4,7]
[null,null,null,5,6,6,5]
[null,null,null,3,6,{"$f":"E45","v":6},3]
[null,null,null,4,2,2,4]
[null,null,null,1,5,5,1]
[null,null,null,6,7,7,6]
[null,null,null,8,4,{"$f":"E49","v":4},{"$f":"D49","v":8}]
[null,null,null,5,3,3,5]
[null,null,null,2,6,6,2]
[null,null,null,7,1,1,7]
[null,null,null,5,8,{"$f":"E53","v":8},{"$f":"D53","v":5},"1. Spieltag",null,null,null,{"$f":"IF($G$1<8,\"6. Spieltag\",\"8. Spieltag\")","v":"6. Spieltag"}]
[null,null,null,6,4,4,6,"Heim",null,"Gast",null,"Heim",null,"Gast"]
[{"$f":"IF(OR(H55=0,J55=0),1,0)","v":0},null,null,3,7,7,3,{"$f":"IFERROR(IF(G1<6,0,IF($G$1=6,VLOOKUP(D14,$A$3:$B$10,2,FALSE),IF($G$1=8,VLOOKUP(D37,$A$3:$B$10,2,FALSE)))),\"\")","v":"Leipzig 1"},"v",{"$f":"IFERROR(IF(G1<6,0,IF($G$1=6,VLOOKUP(E14,$A$3:$B$10,2,FALSE),IF($G$1=8,VLOOKUP(E37,$A$3:$B$10,2,FALSE)))),\"\")","v":"Snoobi Dresden 1"},null,{"$f":"J55","v":"Snoobi Dresden 1"},"v",{"$f":"H55","v":"Leipzig 1"}]
[{"$f":"IF(OR(H56=0,J56=0),1,0)","v":0},null,null,1,2,2,1,{"$f":"IFERROR(IF(G1<6,0,IF($G$1=6,VLOOKUP(D15,$A$3:$B$10,2,FALSE),IF($G$1=8,VLOOKUP(D38,$A$3:$B$10,2,FALSE)))),\"\")","v":"Limbach-Oberfrohna 1"},"v",{"$f":"IFERROR(IF(G1<6,0,IF($G$1=6,VLOOKUP(E15,$A$3:$B$10,2,FALSE),IF($G$1=8,VLOOKUP(E38,$A$3:$B$10,2,FALSE)))),\"\")","v":"Limbach-Oberfrohna 2"},null,{"$f":"J56","v":"Limbach-Oberfrohna 2"},"v",{"$f":"H56","v":"Limbach-Oberfrohna 1"}]
[0,null,null,8,6,6,8,{"$f":"IFERROR(IF(G1<6,0,IF($G$1=6,VLOOKUP(D16,$A$3:$B$10,2,FALSE),IF($G$1=8,VLOOKUP(D39,$A$3:$B$10,2,FALSE)))),\"\")","v":"Limbach-Oberfrohna 3"},"v",{"$f":"IFERROR(IF(G1<6,0,IF($G$1=6,VLOOKUP(E16,$A$3:$B$10,2,FALSE),IF($G$1=8,VLOOKUP(E39,$A$3:$B$10,2,FALSE)))),\"\")","v":"SaxMax Dresden 2"},null,"SaxMax Dresden 2","v","Limbach-Oberfrohna 3"]
[0,null,null,7,5,5,7,{"$f":"IFERROR(IF(G1<6,0,IF($G$1=6,VLOOKUP(D17,$A$3:$B$10,2,FALSE),IF($G$1=8,VLOOKUP(D40,$A$3:$B$10,2,FALSE)))),\"\")","v":""},"v",{"$f":"IFERROR(IF(G1<6,0,IF($G$1=6,VLOOKUP(E17,$A$3:$B$10,2,FALSE),IF($G$1=8,VLOOKUP(E40,$A$3:$B$10,2,FALSE)))),\"\")","v":""},null,"","v",""]
[null,null,null,4,1,1,4]
[null,null,null,2,3,3,2,"2. Spieltag",null,null,null,{"$f":"IF($G$1<8,\"7. Spieltag\",\"9. Spieltag\")","v":"7. Spieltag"}]
[null,null,null,7,8,8,7,"Heim",null,"Gast",null,"Heim",null,"Gast"]
[0,null,null,1,6,6,1,{"$f":"IFERROR(IF(G1<6,0,IF($G$1=6,VLOOKUP(D18,$A$3:$B$10,2,FALSE),IF($G$1=8,VLOOKUP(D41,$A$3:$B$10,2,FALSE)))),\"\")","v":"Snoobi Dresden 1"},"v",{"$f":"IFERROR(IF(G1<6,0,IF($G$1=6,VLOOKUP(E18,$A$3:$B$10,2,FALSE),IF($G$1=8,VLOOKUP(E41,$A$3:$B$10,2,FALSE)))),\"\")","v":"Limbach-Oberfrohna 1"},null,{"$f":"J62","v":"Limbach-Oberfrohna 1"},"v",{"$f":"H62","v":"Snoobi Dresden 1"}]
[0,null,null,5,2,2,5,{"$f":"IFERROR(IF(G1<6,0,IF($G$1=6,VLOOKUP(D19,$A$3:$B$10,2,FALSE),IF($G$1=8,VLOOKUP(D42,$A$3:$B$10,2,FALSE)))),\"\")","v":"Limbach-Oberfrohna 3"},"v",{"$f":"IFERROR(IF(G1<6,0,IF($G$1=6,VLOOKUP(E19,$A$3:$B$10,2,FALSE),IF($G$1=8,VLOOKUP(E42,$A$3:$B$10,2,FALSE)))),\"\")","v":"Leipzig 1"},null,{"$f":"J63","v":"Leipzig 1"},"v",{"$f":"H63","v":"Limbach-Oberfrohna 3"}]
[0,null,null,3,4,4,3,{"$f":"IFERROR(IF(G1<6,0,IF($G$1=6,VLOOKUP(D20,$A$3:$B$10,2,FALSE),IF($G$1=8,VLOOKUP(D43,$A$3:$B$10,2,FALSE)))),\"\")","v":"SaxMax Dresden 2"},"v",{"$f":"IFERROR(IF(G1<6,0,IF($G$1=6,VLOOKUP(E20,$A$3:$B$10,2,FALSE),IF($G$1=8,VLOOKUP(E43,$A$3:$B$10,2,FALSE)))),\"\")","v":"Limbach-Oberfrohna 2"},null,"Limbach-Oberfrohna 2","v","SaxMax Dresden 2"]
[0,null,null,null,null,null,null,{"$f":"IFERROR(IF(G1<6,0,IF($G$1=6,VLOOKUP(D21,$A$3:$B$10,2,FALSE),IF($G$1=8,VLOOKUP(D44,$A$3:$B$10,2,FALSE)))),\"\")","v":""},"v",{"$f":"IFERROR(IF(G1<6,0,IF($G$1=6,VLOOKUP(E21,$A$3:$B$10,2,FALSE),IF($G$1=8,VLOOKUP(E44,$A$3:$B$10,2,FALSE)))),\"\")","v":""},null,"","v",""]
[]
[null,null,null,null,null,null,null,"3. Spieltag",null,null,null,{"$f":"IF($G$1<8,\"8. Spieltag\",\"10. Spieltag\")","v":"8. Spieltag"}]
[null,null,null,null,null,null,null,"Heim",null,"Gast",null,"Heim",null,"Gast"]
[0,null,null,null,null,null,null,{"$f":"IFERROR(IF(G1<6,0,IF($G$1=6,VLOOKUP(D22,$A$3:$B$10,2,FALSE),IF($G$1=8,VLOOKUP(D45,$A$3:$B$10,2,FALSE)))),\"\")","v":"Limbach-Oberfrohna 3"},"v",{"$f":"IFERROR(IF(G1<6,0,IF($G$1=6,VLOOKUP(E22,$A$3:$B$10,2,FALSE),IF($G$1=8,VLOOKUP(E45,$A$3:$B$10,2,FALSE)))),\"\")","v":"Snoobi Dresden 1"},null,{"$f":"J69","v":"Snoobi Dresden 1"},"v",{"$f":"H69","v":"Limbach-Oberfrohna 3"}]
[0,null,null,null,null,null,null,{"$f":"IFERROR(IF(G1<6,0,IF($G$1=6,VLOOKUP(D23,$A$3:$B$10,2,FALSE),IF($G$1=8,VLOOKUP(D46,$A$3:$B$10,2,FALSE)))),\"\")","v":"SaxMax Dresden 2"},"v",{"$f":"IFERROR(IF(G1<6,0,IF($G$1=6,VLOOKUP(E23,$A$3:$B$10,2,FALSE),IF($G$1=8,VLOOKUP(E46,$A$3:$B$10,2,FALSE)))),\"\")","v":"Limbach-Oberfrohna 1"},null,{"$f":"J70","v":"Limbach-Oberfrohna 1"},"v",{"$f":"H70","v":"SaxMax Dresden 2"}]
[0,null,null,null,null,null,null,{"$f":"IFERROR(IF(G1<6,0,IF($G$1=6,VLOOKUP(D24,$A$3:$B$10,2,FALSE),IF($G$1=8,VLOOKUP(D47,$A$3:$B$10,2,FALSE)))),\"\")","v":"Limbach-Oberfrohna 2"},"v",{"$f":"IFERROR(IF(G1<6,0,IF($G$1=6,VLOOKUP(E24,$A$3:$B$10,2,FALSE),IF($G$1=8,VLOOKUP(E47,$A$3:$B$10,2,FALSE)))),\"\")","v":"Leipzig 1"},null,"Leipzig 1","v","Limbach-Oberfrohna 2"]
[0,null,null,null,null,null,null,{"$f":"IFERROR(IF(G1<6,0,IF($G$1=6,VLOOKUP(D25,$A$3:$B$10,2,FALSE),IF($G$1=8,VLOOKUP(D48,$A$3:$B$10,2,FALSE)))),\"\")","v":""},"v",{"$f":"IFERROR(IF(G1<6,0,IF($G$1=6,VLOOKUP(E25,$A$3:$B$10,2,FALSE),IF($G$1=8,VLOOKUP(E48,$A$3:$B$10,2,FALSE)))),\"\")","v":""},null,"","v",""]
[]
[null,null,null,null,null,null,null,"4. Spieltag",null,null,null,{"$f":"IF($G$1<8,\"9. Spieltag\",\"11. Spieltag\")","v":"9. Spieltag"}]
[null,null,null,null,null,null,null,"Heim",null,"Gast",null,"Heim",null,"Gast"]
[0,null,null,null,null,null,null,{"$f":"IFERROR(IF(G1<6,0,IF($G$1=6,VLOOKUP(D26,$A$3:$B$10,2,FALSE),IF($G$1=8,VLOOKUP(D49,$A$3:$B$10,2,FALSE)))),\"\")","v":"Snoobi Dresden 1"},"v",{"$f":"IFERROR(IF(G1<6,0,IF($G$1=6,VLOOKUP(E26,$A$3:$B$10,2,FALSE),IF($G$1=8,VLOOKUP(E49,$A$3:$B$10,2,FALSE)))),\"\")","v":"SaxMax Dresden 2"},null,{"$f":"J76","v":"SaxMax Dresden 2"},"v",{"$f":"H76","v":"Snoobi Dresden 1"}]
[0,null,null,null,null,null,null,{"$f":"IFERROR(IF(G1<6,0,IF($G$1=6,VLOOKUP(D27,$A$3:$B$10,2,FALSE),IF($G$1=8,VLOOKUP(D50,$A$3:$B$10,2,FALSE)))),\"\")","v":"Limbach-Oberfrohna 2"},"v",{"$f":"IFERROR(IF(G1<6,0,IF($G$1=6,VLOOKUP(E27,$A$3:$B$10,2,FALSE),IF($G$1=8,VLOOKUP(E50,$A$3:$B$10,2,FALSE)))),\"\")","v":"Limbach-Oberfrohna 3"},null,{"$f":"J77","v":"Limbach-Oberfrohna 3"},"v",{"$f":"H77","v":"Limbach-Oberfrohna 2"}]
[0,null,null,null,null,null,null,{"$f":"IFERROR(IF(G1<6,0,IF($G$1=6,VLOOKUP(D28,$A$3:$B$10,2,FALSE),IF($G$1=8,VLOOKUP(D51,$A$3:$B$10,2,FALSE)))),\"\")","v":"Leipzig 1"},"v",{"$f":"IFERROR(IF(G1<6,0,IF($G$1=6,VLOOKUP(E28,$A$3:$B$10,2,FALSE),IF($G$1=8,VLOOKUP(E51,$A$3:$B$10,2,FALSE)))),\"\")","v":"Limbach-Oberfrohna 1"},null,"Limbach-Oberfrohna 1","v","Leipzig 1"]
[0,null,null,null,null,null,null,{"$f":"IFERROR(IF(G1<6,0,IF($G$1=6,VLOOKUP(D29,$A$3:$B$10,2,FALSE),IF($G$1=8,VLOOKUP(D52,$A$3:$B$10,2,FALSE)))),\"\")","v":""},"v",{"$f":"IFERROR(IF(G1<6,0,IF($G$1=6,VLOOKUP(E29,$A$3:$B$10,2,FALSE),IF($G$1=8,VLOOKUP(E52,$A$3:$B$10,2,FALSE)))),\"\")","v":""},null,"","v",""]
[]
[null,null,null,null,null,null,null,"5. Spieltag",null,null,null,{"$f":"IF($G$1<8,\"10. Spieltag\",\"12. Spieltag\")","v":"10. Spieltag"}]
[null,null,null,null,null,null,null,"Heim",null,"Gast",null,"Heim",null,"Gast"]
[0,null,null,null,null,null,null,{"$f":"IFERROR(IF(G1<6,0,IF($G$1=6,VLOOKUP(D30,$A$3:$B$10,2,FALSE),IF($G$1=8,VLOOKUP(D53,$A$3:$B$10,2,FALSE)))),\"\")","v":"Limbach-Oberfrohna 2"},"v",{"$f":"IFERROR(IF(G1<6,0,IF($G$1=6,VLOOKUP(E30,$A$3:$B$10,2,FALSE),IF($G$1=8,VLOOKUP(E53,$A$3:$B$10,2,FALSE)))),\"\")","v":"Snoobi Dresden 1"},null,{"$f":"J83","v":"Snoobi Dresden 1"},"v",{"$f":"H83","v":"Limbach-Oberfrohna 2"}]
[0,null,null,null,null,null,null,{"$f":"IFERROR(IF(G1<6,0,IF($G$1=6,VLOOKUP(D31,$A$3:$B$10,2,FALSE),IF($G$1=8,VLOOKUP(D54,$A$3:$B$10,2,FALSE)))),\"\")","v":"Leipzig 1"},"v",{"$f":"IFERROR(IF(G1<6,0,IF($G$1=6,VLOOKUP(E31,$A$3:$B$10,2,FALSE),IF($G$1=8,VLOOKUP(E54,$A$3:$B$10,2,FALSE)))),\"\")","v":"SaxMax Dresden 2"},null,{"$f":"J84","v":"SaxMax Dresden 2"},"v",{"$f":"H84","v":"Leipzig 1"}]
[0,null,null,null,null,null,null,{"$f":"IFERROR(IF(G1<6,0,IF($G$1=6,VLOOKUP(D32,$A$3:$B$10,2,FALSE),IF($G$1=8,VLOOKUP(D55,$A$3:$B$10,2,FALSE)))),\"\")","v":"Limbach-Oberfrohna 1"},"v",{"$f":"IFERROR(IF(G1<6,0,IF($G$1=6,VLOOKUP(E32,$A$3:$B$10,2,FALSE),IF($G$1=8,VLOOKUP(E55,$A$3:$B$10,2,FALSE)))),\"\")","v":"Limbach-Oberfrohna 3"},null,"Limbach-Oberfrohna 3","v","Limbach-Oberfrohna 1"]
[0,null,null,null,null,null,null,{"$f":"IFERROR(IF(G1<6,0,IF($G$1=6,VLOOKUP(D33,$A$3:$B$10,2,FALSE),IF($G$1=8,VLOOKUP(D56,$A$3:$B$10,2,FALSE)))),\"\")","v":""},"v",{"$f":"IFERROR(IF(G1<6,0,IF($G$1=6,VLOOKUP(E33,$A$3:$B$10,2,FALSE),IF($G$1=8,VLOOKUP(E56,$A$3:$B$10,2,FALSE)))),\"\")","v":""},null,"","v",""]
[]
[null,null,null,null,null,null,null,{"$f":"IF($G$1<8,\"\",\"6. Spieltag\")","v":""},null,null,null,{"$f":"IF($G$1<8,\"\",\"13. Spieltag\")","v":""}]
[null,null,null,null,null,null,null,"Heim",null,"Gast",null,"Heim",null,"Gast"]
[0,null,null,null,null,null,null,{"$f":"IFERROR(IF($G$1=8,VLOOKUP(D57,$A$3:$B$10,2,FALSE)),\"\")","v":false},"v",{"$f":"IFERROR(IF($G$1=8,VLOOKUP(E57,$A$3:$B$10,2,FALSE)),\"\")","v":false},null,{"$f":"J90","v":false},"v",{"$f":"H90","v":false}]
[0,null,null,null,null,null,null,{"$f":"IFERROR(IF($G$1=8,VLOOKUP(D58,$A$3:$B$10,2,FALSE)),\"\")","v":false},"v",{"$f":"IFERROR(IF($G$1=8,VLOOKUP(E58,$A$3:$B$10,2,FALSE)),\"\")","v":false},null,{"$f":"J91","v":false},"v",{"$f":"H91","v":false}]
[0,null,null,null,null,null,null,false,"v",false,null,false,"v",false]
[0,null,null,null,null,null,null,false,"v",false,null,false,"v",false]
[]
[null,null,null,null,null,null,null,{"$f":"IF($G$1<8,\"\",\"7. Spieltag\")","v":""},null,null,null,{"$f":"IF($G$1<8,\"\",\"14. Spieltag\")","v":""}]
[null,null,null,null,null,null,null,"Heim",null,"Gast",null,"Heim",null,"Gast"]
[0,null,null,null,null,null,null,{"$f":"IFERROR(IF($G$1=8,VLOOKUP(D61,$A$3:$B$10,2,FALSE)),\"\")","v":false},"v",{"$f":"IFERROR(IF($G$1=8,VLOOKUP(E61,$A$3:$B$10,2,FALSE)),\"\")","v":false},null,{"$f":"J97","v":false},"v",{"$f":"H97","v":false}]
[0,null,null,null,null,null,null,{"$f":"IFERROR(IF($G$1=8,VLOOKUP(D62,$A$3:$B$10,2,FALSE)),\"\")","v":false},"v",{"$f":"IFERROR(IF($G$1=8,VLOOKUP(E62,$A$3:$B$10,2,FALSE)),\"\")","v":false},null,{"$f":"J98","v":false},"v",{"$f":"H98","v":false}]
[0,null,null,null,null,null,null,false,"v",false,null,false,"v",false]
[0,null,null,null,null,null,null,false,"v",false,null,false,"v",false]

{"sheet":"Spielplan","index":1,"n_rows":50,"n_cols":8,"rows_kept":50,"cut":false,"hidden":false,"merged":[[44,1,44,3],[44,5,44,7],[37,1,37,3],[37,5,37,7],[0,1,0,7],[23,1,23,3],[23,5,23,7],[30,1,30,3],[30,5,30,7],[2,1,2,3],[2,5,2,7],[9,1,9,3],[9,5,9,7],[16,1,16,3],[16,5,16,7],[1,1,1,3],[1,5,1,7]]}
[null,"Spielplan Oberliga - Saison 2020 / 2021\nBei Doppelspieltagen beginnt der Spieltag bereits 11:00 Uhr!"]
[1,"Hinrunde",null,null,null,"Rückrunde"]
[1,"1. Spieltag",null,null,null,{"$f":"Mannschaften!L53","v":"6. Spieltag"}]
[1,"Heim",null,"Gast",null,"Heim",null,"Gast"]
[{"$f":"IF(OR(B5=\"\",D5=\"\"),0,IF(OR(B5=0,D5=0),0,1))","v":1},{"$f":"Mannschaften!H55","v":"Leipzig 1"},"v",{"$f":"Mannschaften!J55","v":"Snoobi Dresden 1"},null,{"$f":"Mannschaften!L55","v":"Snoobi Dresden 1"},"v",{"$f":"Mannschaften!N55","v":"Leipzig 1"}]
[{"$f":"IF(OR(B6=\"\",D6=\"\"),0,IF(OR(B6=0,D6=0),0,1))","v":1},{"$f":"Mannschaften!H56","v":"Limbach-Oberfrohna 1"},"v",{"$f":"Mannschaften!J56","v":"Limbach-Oberfrohna 2"},null,{"$f":"Mannschaften!L56","v":"Limbach-Oberfrohna 2"},"v",{"$f":"Mannschaften!N56","v":"Limbach-Oberfrohna 1"}]
[1,{"$f":"Mannschaften!H57","v":"Limbach-Oberfrohna 3"},"v",{"$f":"Mannschaften!J57","v":"SaxMax Dresden 2"},null,{"$f":"Mannschaften!L57","v":"SaxMax Dresden 2"},"v",{"$f":"Mannschaften!N57","v":"Limbach-Oberfrohna 3"}]
[0,{"$f":"Mannschaften!H58","v":""},"v",{"$f":"Mannschaften!J58","v":""},null,{"$f":"Mannschaften!L58","v":""},"v",{"$f":"Mannschaften!N58","v":""}]
[1]
[1,"2. Spieltag",null,null,null,{"$f":"Mannschaften!L60","v":"7. Spieltag"}]
[1,"Heim",null,"Gast",null,"Heim",null,"Gast"]
[1,{"$f":"Mannschaften!H62","v":"Snoobi Dresden 1"},"v",{"$f":"Mannschaften!J62","v":"Limbach-Oberfrohna 1"},null,{"$f":"Mannschaften!L62","v":"Limbach-Oberfrohna 1"},"v",{"$f":"Mannschaften!N62","v":"Snoobi Dresden 1"}]
[1,{"$f":"Mannschaften!H63","v":"Limbach-Oberfrohna 3"},"v",{"$f":"Mannschaften!J63","v":"Leipzig 1"},null,{"$f":"Mannschaften!L63","v":"Leipzig 1"},"v",{"$f":"Mannschaften!N63","v":"Limbach-Oberfrohna 3"}]
[1,{"$f":"Mannschaften!H64","v":"SaxMax Dresden 2"},"v",{"$f":"Mannschaften!J64","v":"Limbach-Oberfrohna 2"},null,{"$f":"Mannschaften!L64","v":"Limbach-Oberfrohna 2"},"v",{"$f":"Mannschaften!N64","v":"SaxMax Dresden 2"}]
[0,{"$f":"Mannschaften!H65","v":""},"v",{"$f":"Mannschaften!J65","v":""},null,{"$f":"Mannschaften!L65","v":""},"v",{"$f":"Mannschaften!N65","v":""}]
[1]
[1,"3. Spieltag",null,null,null,{"$f":"Mannschaften!L67","v":"8. Spieltag"}]
[1,"Heim",null,"Gast",null,"Heim",null,"Gast"]
[1,{"$f":"Mannschaften!H69","v":"Limbach-Oberfrohna 3"},{"$f":"Mannschaften!I69","v":"v"},{"$f":"Mannschaften!J69","v":"Snoobi Dresden 1"},null,{"$f":"Mannschaften!L69","v":"Snoobi Dresden 1"},{"$f":"Mannschaften!M69","v":"v"},{"$f":"Mannschaften!N69","v":"Limbach-Oberfrohna 3"}]
[1,{"$f":"Mannschaften!H70","v":"SaxMax Dresden 2"},{"$f":"Mannschaften!I70","v":"v"},{"$f":"Mannschaften!J70","v":"Limbach-Oberfrohna 1"},null,{"$f":"Mannschaften!L70","v":"Limbach-Oberfrohna 1"},{"$f":"Mannschaften!M70","v":"v"},{"$f":"Mannschaften!N70","v":"SaxMax Dresden 2"}]
[1,{"$f":"Mannschaften!H71","v":"Limbach-Oberfrohna 2"},{"$f":"Mannschaften!I71","v":"v"},{"$f":"Mannschaften!J71","v":"Leipzig 1"},null,{"$f":"Mannschaften!L71","v":"Leipzig 1"},{"$f":"Mannschaften!M71","v":"v"},{"$f":"Mannschaften!N71","v":"Limbach-Oberfrohna 2"}]
[0,{"$f":"Mannschaften!H72","v":""},{"$f":"Mannschaften!I72","v":"v"},{"$f":"Mannschaften!J72","v":""},null,{"$f":"Mannschaften!L72","v":""},{"$f":"Mannschaften!M72","v":"v"},{"$f":"Mannschaften!N72","v":""}]
[1]
[1,"4. Spieltag",null,null,null,{"$f":"Mannschaften!L74","v":"9. Spieltag"}]
[1,"Heim",null,"Gast",null,"Heim",null,"Gast"]
[1,{"$f":"Mannschaften!H76","v":"Snoobi Dresden 1"},{"$f":"Mannschaften!I76","v":"v"},{"$f":"Mannschaften!J76","v":"SaxMax Dresden 2"},null,{"$f":"Mannschaften!L76","v":"SaxMax Dresden 2"},{"$f":"Mannschaften!M76","v":"v"},{"$f":"Mannschaften!N76","v":"Snoobi Dresden 1"}]
[1,{"$f":"Mannschaften!H77","v":"Limbach-Oberfrohna 2"},{"$f":"Mannschaften!I77","v":"v"},{"$f":"Mannschaften!J77","v":"Limbach-Oberfrohna 3"},null,{"$f":"Mannschaften!L77","v":"Limbach-Oberfrohna 3"},{"$f":"Mannschaften!M77","v":"v"},{"$f":"Mannschaften!N77","v":"Limbach-Oberfrohna 2"}]
[1,{"$f":"Mannschaften!H78","v":"Leipzig 1"},{"$f":"Mannschaften!I78","v":"v"},{"$f":"Mannschaften!J78","v":"Limbach-Oberfrohna 1"},null,{"$f":"Mannschaften!L78","v":"Limbach-Oberfrohna 1"},{"$f":"Mannschaften!M78","v":"v"},{"$f":"Mannschaften!N78","v":"Leipzig 1"}]
[0,{"$f":"Mannschaften!H79","v":""},{"$f":"Mannschaften!I79","v":"v"},{"$f":"Mannschaften!J79","v":""},null,{"$f":"Mannschaften!L79","v":""},{"$f":"Mannschaften!M79","v":"v"},{"$f":"Mannschaften!N79","v":""}]
[1]
[1,"5. Spieltag",null,null,null,{"$f":"Mannschaften!L81","v":"10. Spieltag"}]
[1,"Heim",null,"Gast",null,"Heim",null,"Gast"]
[1,{"$f":"Mannschaften!H83","v":"Limbach-Oberfrohna 2"},{"$f":"Mannschaften!I83","v":"v"},{"$f":"Mannschaften!J83","v":"Snoobi Dresden 1"},null,{"$f":"Mannschaften!L83","v":"Snoobi Dresden 1"},{"$f":"Mannschaften!M83","v":"v"},{"$f":"Mannschaften!N83","v":"Limbach-Oberfrohna 2"}]
[1,{"$f":"Mannschaften!H84","v":"Leipzig 1"},{"$f":"Mannschaften!I84","v":"v"},{"$f":"Mannschaften!J84","v":"SaxMax Dresden 2"},null,{"$f":"Mannschaften!L84","v":"SaxMax Dresden 2"},{"$f":"Mannschaften!M84","v":"v"},{"$f":"Mannschaften!N84","v":"Leipzig 1"}]
[1,{"$f":"Mannschaften!H85","v":"Limbach-Oberfrohna 1"},{"$f":"Mannschaften!I85","v":"v"},{"$f":"Mannschaften!J85","v":"Limbach-Oberfrohna 3"},null,{"$f":"Mannschaften!L85","v":"Limbach-Oberfrohna 3"},{"$f":"Mannschaften!M85","v":"v"},{"$f":"Mannschaften!N85","v":"Limbach-Oberfrohna 1"}]
[0,{"$f":"Mannschaften!H86","v":""},{"$f":"Mannschaften!I86","v":"v"},{"$f":"Mannschaften!J86","v":""},null,{"$f":"Mannschaften!L86","v":""},{"$f":"Mannschaften!M86","v":"v"},{"$f":"Mannschaften!N86","v":""}]
[{"$f":"IF(Mannschaften!$O$1>6,1,0)","v":0}]
[{"$f":"IF(Mannschaften!$O$1>6,1,0)","v":0},"6. Spieltag",null,null,null,"13. Spieltag"]
[{"$f":"IF(Mannschaften!$O$1>6,1,0)","v":0},"Heim",null,"Gast",null,"Heim",null,"Gast"]
[{"$f":"IF(OR(B40=\"\",D40=\"\"),0,IF(OR(B40=0,D40=0),0,1))","v":1},{"$f":"Mannschaften!H90","v":false},{"$f":"Mannschaften!I90","v":"v"},{"$f":"Mannschaften!J90","v":false},null,{"$f":"Mannschaften!L90","v":false},{"$f":"Mannschaften!M90","v":"v"},{"$f":"Mannschaften!N90","v":false}]
[1,{"$f":"Mannschaften!H91","v":false},{"$f":"Mannschaften!I91","v":"v"},{"$f":"Mannschaften!J91","v":false},null,{"$f":"Mannschaften!L91","v":false},{"$f":"Mannschaften!M91","v":"v"},{"$f":"Mannschaften!N91","v":false}]
[1,{"$f":"Mannschaften!H92","v":false},{"$f":"Mannschaften!I92","v":"v"},{"$f":"Mannschaften!J92","v":false},null,{"$f":"Mannschaften!L92","v":false},{"$f":"Mannschaften!M92","v":"v"},{"$f":"Mannschaften!N92","v":false}]
[1,{"$f":"Mannschaften!H93","v":false},{"$f":"Mannschaften!I93","v":"v"},{"$f":"Mannschaften!J93","v":false},null,{"$f":"Mannschaften!L93","v":false},{"$f":"Mannschaften!M93","v":"v"},{"$f":"Mannschaften!N93","v":false}]
[{"$f":"IF(Mannschaften!$O$1>6,1,0)","v":0}]
[{"$f":"IF(Mannschaften!$O$1>6,1,0)","v":0},"7. Spieltag",null,null,null,"14. Spieltag"]
[{"$f":"IF(Mannschaften!$O$1>6,1,0)","v":0},"Heim",null,"Gast",null,"Heim",null,"Gast"]
[{"$f":"IF(OR(B47=\"\",D47=\"\"),0,IF(OR(B47=0,D47=0),0,1))","v":1},{"$f":"Mannschaften!H97","v":false},{"$f":"Mannschaften!I97","v":"v"},{"$f":"Mannschaften!J97","v":false},null,{"$f":"Mannschaften!L97","v":false},{"$f":"Mannschaften!M97","v":"v"},{"$f":"Mannschaften!N97","v":false}]
[1,{"$f":"Mannschaften!H98","v":false},{"$f":"Mannschaften!I98","v":"v"},{"$f":"Mannschaften!J98","v":false},null,{"$f":"Mannschaften!L98","v":false},{"$f":"Mannschaften!M98","v":"v"},{"$f":"Mannschaften!N98","v":false}]
[1,{"$f":"Mannschaften!H99","v":false},{"$f":"Mannschaften!I99","v":"v"},{"$f":"Mannschaften!J99","v":false},null,{"$f":"Mannschaften!L99","v":false},{"$f":"Mannschaften!M99","v":"v"},{"$f":"Mannschaften!N99","v":false}]
[1,{"$f":"Mannschaften!H100","v":false},{"$f":"Mannschaften!I100","v":"v"},{"$f":"Mannschaften!J100","v":false},null,{"$f":"Mannschaften!L100","v":false},{"$f":"Mannschaften!M100","v":"v"},{"$f":"Mannschaften!N100","v":false}]